BEGIN:VCALENDAR
VERSION:2.0
PRODID:-//eventon.com NONSGML v1.0//EN
BEGIN:VEVENT
UID:69e6ebfa599e7
DTSTAMP:20260421T051610
DTSTART:20180407T000000Z
DTEND:20180407T235900Z
TZID:UTC
LOCATION:Valdinievole 
SUMMARY:Open Week 2018 - Montecatini Terme e la Valdinievole
DESCRIPTION: SABATO 7 APRILE APERTURE STRAORDINARIE Chiesina Uzzanese: La Francigena in Valdienvole – Visita allo Xenodochio (orario 8.00 – 13.00 prenotazione obbligatoria) Larciano: &#8211; Apertura Centro Visite Riserva Naturale del Padule di Fucecchio e dell’Osservatorio di birdwatching alle Morette a cura del Centro RDP (orario 14.30 – 17.30) &#8211; Museo Civico[..]\nhttps://www.discoverpistoia.it/events/open-week-2018-montecatini-terme-la-valdinievole-2/
URL:https://www.discoverpistoia.it/events/open-week-2018-montecatini-terme-la-valdinievole-2/
END:VEVENT
END:VCALENDAR