BEGIN:VCALENDAR
VERSION:2.0
PRODID:-//eventon.com NONSGML v1.0//EN
BEGIN:VEVENT
UID:69e8532e575ce
DTSTAMP:20260422T064846
DTSTART:20190207T152000Z
DTEND:20190207T152000Z
TZID:UTC
LOCATION:
SUMMARY:MI AMAVI ANCORA
DESCRIPTION: Teatro Comunale di Lamporecchio Domenica\,  10 febbraio 2019 ore 21.00 Secondo appuntamento della Stagione di Prosa del Teatro Comunale di Lamporecchio\,  domenica 10 febbraio (ore 21)\,  con MI AMAVI ANCORA\,  di Florian Zeller\,  pluripremiato commediografo francese non ancora quarantenne\,  di cui\,  solo in Italia\,  in questa stagione\,  sono in tournée[..]\nhttps://www.discoverpistoia.it/events/mi-amavi-ancora/
URL:https://www.discoverpistoia.it/events/mi-amavi-ancora/
END:VEVENT
END:VCALENDAR