BEGIN:VCALENDAR
VERSION:2.0
PRODID:-//eventon.com NONSGML v1.0//EN
BEGIN:VEVENT
UID:69ed4f9db1a8d
DTSTAMP:20260426T013453
DTSTART:20190911T235900Z
DTEND:20190920T000000Z
TZID:UTC
LOCATION:
SUMMARY:Eventi a Pistoia e Provincia da mercoledì 11 a venerdì 20 settembre 2019
DESCRIPTION: Mercoledì 11 Ore 16.30 &#8211; Biblioteca San Giorgio &#8211; Via Pertini &#8211; Un&#8217;estate Chiacchierina 2019 &#8211; IX edizione &#8211; Lettura di libri e laboratorio per bambini sul tema “la Pace si intreccia alla salvaguardia del Pianeta”. Per informazioni: 0573 &#8211; 371600 &nbsp; Ore 17.00 &#8211; 19.00 &#8211; Sala Bigongiari &#8211;[..]\nhttps://www.discoverpistoia.it/events/eventi-pistoia-provincia-mercoledi-11-venerdi-20-settembre-2019/
URL:https://www.discoverpistoia.it/events/eventi-pistoia-provincia-mercoledi-11-venerdi-20-settembre-2019/
END:VEVENT
END:VCALENDAR