BEGIN:VCALENDAR
VERSION:2.0
PRODID:-//eventon.com NONSGML v1.0//EN
BEGIN:VEVENT
UID:69e61d61906e5
DTSTAMP:20260420T143441
DTSTART:20191026T160000Z
DTEND:20191026T193000Z
TZID:UTC
LOCATION:Enoteca Carlo Lavuri  Via Provinciale 154/G 51031 AGLIANA 
SUMMARY:Presentazione e degustazione dei prodotti vitivinicoli "Tenuta Col' d'Orcia"
DESCRIPTION: &nbsp; SABATO 26 Ottobre 2019 alle ore 16.00\,  presso l’Enoteca Carlo Lavuri di Agliana (Pistoia) è in programma una degustazione e una presentazione dedicata alla storica realtà vitivinicola di Montalcino “Tenuta Col’ d’Orcia” . Ospite d’eccezione del pomeriggio\,  il Conte Francesco Marone Cinzano\,  con cui gli interessati che decideranno di[..]\nhttps://www.discoverpistoia.it/events/presentazione-e-degustazione/
URL:https://www.discoverpistoia.it/events/presentazione-e-degustazione/
END:VEVENT
END:VCALENDAR