BEGIN:VCALENDAR
VERSION:2.0
PRODID:-//eventon.com NONSGML v1.0//EN
BEGIN:VEVENT
UID:69e8842f4e55c
DTSTAMP:20260422T101751
DTSTART:20200208T000000Z
DTEND:20200208T235300Z
TZID:UTC
LOCATION:
SUMMARY:Laboratori per i più piccoli\,  incontri e tanto altro...
DESCRIPTION: Sabato 8  Fino a domenica 9 dalle ore 9.00 alle 19.00 &#8211; Spazio espositivo La Cattedrale di Pistoia &#8211; “Mercato antiquario”.   Ore 10.00 &#8211; Sala Walter Iozzelli della Biblioteca Comunale “Giuseppe Giusti” di Monsummano Terme &#8211; “C’ERA UNA VOLTA CHI?” &#8211; Laboratori creativi narrativi – “Autoritratti d’artista” Rivolti a bambini a[..]\nhttps://www.discoverpistoia.it/events/laboratori-per-i-piu-piccoli-incontri-e-tanto-altro/
URL:https://www.discoverpistoia.it/events/laboratori-per-i-piu-piccoli-incontri-e-tanto-altro/
END:VEVENT
END:VCALENDAR