BEGIN:VCALENDAR
VERSION:2.0
PRODID:-//eventon.com NONSGML v1.0//EN
BEGIN:VEVENT
UID:69ea1e2a83725
DTSTAMP:20260423T152706
DTSTART:20200228T000000Z
DTEND:20200228T235300Z
TZID:UTC
LOCATION:
SUMMARY:... Spettacoli\,  Musica e Letture...
DESCRIPTION: Venerdì 28 Fino a domenica 1 marzo a Pistoia &#8211; Biblioteca San Giorgio &#8211; decima edizione del Festival del Giallo sul tema &#8211; “Il personaggio ed il suo doppio: dalla letteratura alla fiction. I carabinieri e gli altri investigatori del terzo millennio» . &nbsp; Ore 17.30 presso &#8211; &#8221; La Biblioteca dell&#8217;Amicizia &#8221;[..]\nhttps://www.discoverpistoia.it/events/spettacoli-musica-e-letture/
URL:https://www.discoverpistoia.it/events/spettacoli-musica-e-letture/
END:VEVENT
END:VCALENDAR