BEGIN:VCALENDAR
VERSION:2.0
PRODID:-//eventon.com NONSGML v1.0//EN
BEGIN:VEVENT
UID:69e9241d0110d
DTSTAMP:20260422T214013
DTSTART:20200204T000000Z
DTEND:20200204T235300Z
TZID:UTC
LOCATION:
SUMMARY:“Il teatro pistoiese di Antonio Bibiena” - “Storia di un fantasma”
DESCRIPTION: Martedì 4 Ore 16.00 &#8211;  Biblioteca Forteguerriana &#8211; Piazza della Sapienza\,  5 &#8211; La Forteguerriana racconta Pistoia – “Il teatro pistoiese di Antonio Bibiena” &#8211; “Storia di un fantasma” &#8211; Conferenza di Giacomo Sambusida.\nhttps://www.discoverpistoia.it/events/il-teatro-pistoiese-di-antonio-bibiena-storia-di-un-fantasma/
URL:https://www.discoverpistoia.it/events/il-teatro-pistoiese-di-antonio-bibiena-storia-di-un-fantasma/
END:VEVENT
END:VCALENDAR