BEGIN:VCALENDAR
VERSION:2.0
PRODID:-//eventon.com NONSGML v1.0//EN
BEGIN:VEVENT
UID:69e947436cfbe
DTSTAMP:20260423T001011
DTSTART:20200312T160000Z
DTEND:20200312T235300Z
TZID:UTC
LOCATION:
SUMMARY:Racconti\,  letture e fiabe
DESCRIPTION: Giovedì 12   Ore 16.00 &#8211;  Biblioteca Forteguerriana &#8211; Piazza della Sapienza\,  5 &#8211; La Forteguerriana racconta Pistoia – “Il revival ottocentesco in Danimarca e le sue connessioni con Pistoia” &#8211; Conferenza di Costantino Ceccanti – Per informazioni: 0573-371452 &nbsp; Ore 17.00 &#8211; Sala Maggiore del Palazzo comunale &#8211; Piazza del[..]\nhttps://www.discoverpistoia.it/events/racconti-letture-e-fiabe/
URL:https://www.discoverpistoia.it/events/racconti-letture-e-fiabe/
END:VEVENT
END:VCALENDAR