BEGIN:VCALENDAR
VERSION:2.0
PRODID:-//eventon.com NONSGML v1.0//EN
BEGIN:VEVENT
UID:69ea6206b4afe
DTSTAMP:20260423T201638
DTSTART:20200321T100000Z
DTEND:20200321T235300Z
TZID:UTC
LOCATION:
SUMMARY:Letture per grandi e piccini\,  giochi da tavolo e tanto altro
DESCRIPTION: Sabato 21   Dalle 10.00 alle 19.00 presso la Sala dell’Antico Refettorio del Convento di San Domenico a Pistoia – Il futuro inizia oggi: incontri tematici\,  conferenze e musica – “Le esperienze possono cambiare il DNA” &#8211; Ingresso gratuito con prenotazione al numero 338 3894309 &nbsp; Ore 10.45 &#8211;  Biblioteca[..]\nhttps://www.discoverpistoia.it/events/letture-per-grandi-e-piccini-giochi-da-tavolo-e-tanto-altro/
URL:https://www.discoverpistoia.it/events/letture-per-grandi-e-piccini-giochi-da-tavolo-e-tanto-altro/
END:VEVENT
END:VCALENDAR