BEGIN:VCALENDAR
VERSION:2.0
PRODID:-//eventon.com NONSGML v1.0//EN
BEGIN:VEVENT
UID:69e99a110f859
DTSTAMP:20260423T060329
DTSTART:20200324T080000Z
DTEND:20200324T235300Z
TZID:UTC
LOCATION:
SUMMARY:Incontri e letture importanti
DESCRIPTION: Martedì 24 &nbsp; Dalle 8 alle 20 &#8211; Via Cino da Pistoia – “Il meglio di via Cino” – Mercatino &nbsp; Ore 10\, 30 &#8211; Biblioteca San Giorgio &#8211; Via Pertini &#8211; Giornata internazionale della donna 2020 – “Still here/Ancora qui” &#8211; incontro con Danielle SeeWalker &#8211; nativa americana. &nbsp; Ore 15.00[..]\nhttps://www.discoverpistoia.it/events/incontri-e-letture-importanti/
URL:https://www.discoverpistoia.it/events/incontri-e-letture-importanti/
END:VEVENT
END:VCALENDAR