BEGIN:VCALENDAR
VERSION:2.0
PRODID:-//eventon.com NONSGML v1.0//EN
BEGIN:VEVENT
UID:69e8c107269ff
DTSTAMP:20260422T143727
DTSTART:20200716T211500Z
DTEND:20200716T235900Z
TZID:UTC
LOCATION:Piazza del Grano Pescia (Italia)
SUMMARY:Le Notti dell’archeologia: Erudizione\,  ricerca\,  prospettive: riflessioni sul ruolo dell’archeologia in Valdinievole.
DESCRIPTION: Torna anche quest’anno a Pescia l’appuntamento per Le Notti dell’archeologia. Nell’ambito di questa manifestazione\,  promossa dalla Regione Toscana\,  il dott. Francesco Tanganelli (Università degli Studi della Basilicata) terrà una conferenza dal titolo Erudizione\,  ricerca\,  prospettive: riflessioni sul ruolo dell’archeologia in Valdinievole. La conferenza avrà luogo giovedì 16 luglio\,  a partire[..]\nhttps://www.discoverpistoia.it/events/le-notti-dellarcheologia-erudizione-ricerca-prospettive-riflessioni-sul-ruolo-dellarcheologia-valdinievole/
URL:https://www.discoverpistoia.it/events/le-notti-dellarcheologia-erudizione-ricerca-prospettive-riflessioni-sul-ruolo-dellarcheologia-valdinievole/
END:VEVENT
END:VCALENDAR