BEGIN:VCALENDAR
VERSION:2.0
PRODID:-//eventon.com NONSGML v1.0//EN
BEGIN:VEVENT
UID:69e73f5052dae
DTSTAMP:20260421T111144
DTSTART:20220130T160000Z
DTEND:20220130T190000Z
TZID:UTC
LOCATION:Piccolo Teatro Bolognini Via del Presto 5
SUMMARY:GAME OVER
DESCRIPTION: Uno spettacolo di inQuanto Teatro &#8211; regia Giacomo Bogani “Game Over” è la storia di Alice: una bambina innamorata di giochi e videogiochi\,  ma teneramente spaventata da ogni fine. Non finisce quello che inizia\,  passa da una possibilità all’altra\,  lasciandole tutte aperte&#8230; &#8211; fascia d’età: dai 6 anni\nhttps://www.discoverpistoia.it/events/game-over/
URL:https://www.discoverpistoia.it/events/game-over/
END:VEVENT
END:VCALENDAR