BEGIN:VCALENDAR
VERSION:2.0
PRODID:-//eventon.com NONSGML v1.0//EN
BEGIN:VEVENT
UID:69e75ec8878d8
DTSTAMP:20260421T132600
DTSTART:20220115T160000Z
DTEND:20220115T193000Z
TZID:UTC
LOCATION:Biblioteca San Giorgio Via Sandro Pertini\,  51100 Pistoia PT
SUMMARY:“Storia di Luis Sepúlveda e del suo gatto Zorba”
DESCRIPTION: Sabato 15 gennaio\,  ore 16.00 – Auditorium Tiziano Terzani Presentazione del libro “Storia di Luis Sepúlveda e del suo gatto Zorba” di Ilide Carmignani (Salani 2021) Il libro\,  rivolto ai bambini delle scuole elementari e medie\,  illustra la vita del grande scrittore cileno Luis Sepúlveda&#8230; Ingresso libero fino ad esaurimento[..]\nhttps://www.discoverpistoia.it/events/storia-luis-sepulveda-del-suo-gatto-zorba/
URL:https://www.discoverpistoia.it/events/storia-luis-sepulveda-del-suo-gatto-zorba/
END:VEVENT
END:VCALENDAR