BEGIN:VCALENDAR
VERSION:2.0
PRODID:-//eventon.com NONSGML v1.0//EN
BEGIN:VEVENT
UID:69e568ad3af5d
DTSTAMP:20260420T014341
DTSTART:20211211T000000Z
DTEND:20220227T235900Z
TZID:UTC
LOCATION:Mac\, n – Museo di Arte Contemporanea e del ‘900 Via di Gragnano\,  349
SUMMARY:DI VAGARE
DESCRIPTION: L’11 dicembre\,  al Mac\, n\,  è stata inaugurata con successo la mostra “DI VAGARE”\,  esposizione di quattro giovanissimi artisti\,  Jacopo Francesconi\,  Veronica Greco\,  Giulia Guidicelli e Federica Vaia. La mostra\,  a cura di Ilaria Nerli\,  anch’essa giovanissima\,  testimonia con stili e tecniche diverse\,  le loro personali visioni della natura\,  dei suoi[..]\nhttps://www.discoverpistoia.it/events/di-vagare/
URL:https://www.discoverpistoia.it/events/di-vagare/
END:VEVENT
END:VCALENDAR