BEGIN:VCALENDAR
VERSION:2.0
PRODID:-//eventon.com NONSGML v1.0//EN
BEGIN:VEVENT
UID:69e9acb26a87a
DTSTAMP:20260423T072258
DTSTART:20220211T210000Z
DTEND:20220211T230000Z
TZID:UTC
LOCATION:Teatro Manzoni Corso Antonio Gramsci\,  127\,  51100 Pistoia PT
SUMMARY:SINFONICA
DESCRIPTION: I soli archi dell’ORT protagonisti: il loro capitano è un asso del violoncello (e della composizione)\,  Giovanni Sollima\,  un musicista che trasforma i concerti in esperienze travolgenti di spettacolo facendo sì che il suo strumento prenda vita\,  reciti\,  canti\,  danzi\,  piroetti\,  volteggi a occhi bendati&#8230; TEATRO MANZONI Pistoia venerdì 11[..]\nhttps://www.discoverpistoia.it/events/sinfonica/
URL:https://www.discoverpistoia.it/events/sinfonica/
END:VEVENT
END:VCALENDAR