BEGIN:VCALENDAR
VERSION:2.0
PRODID:-//eventon.com NONSGML v1.0//EN
BEGIN:VEVENT
UID:69e52ac1a55d0
DTSTAMP:20260419T211929
DTSTART:20211219T000000Z
DTEND:20220605T000000Z
TZID:UTC
LOCATION:Museo del Novecento e del Contemporaneo di Palazzo Fabroni  Via Sant'Andrea\,  18\,  51100 Pistoia PT
SUMMARY:#NATIVI100 Gualtiero Nativi e Giovanni Michelucci
DESCRIPTION: #NATIVI100 Gualtiero Nativi e Giovanni Michelucci La mostra #NATIVI100\,  a cura di Giovanna Uzzani\,  promossa e realizzata dal Comune di Pistoia/Musei Civici\,  in collaborazione con Fondazione Giovanni Michelucci\,  Tempo Reale\,  Associazione Electo Arte e Archivio Nativi\,  aperta a Palazzo Fabroni fino al 5 giugno 2022\,  offre nella prima sala del[..]\nhttps://www.discoverpistoia.it/events/nativi100-gualtiero-nativi-giovanni-michelucci/
URL:https://www.discoverpistoia.it/events/nativi100-gualtiero-nativi-giovanni-michelucci/
END:VEVENT
END:VCALENDAR