BEGIN:VCALENDAR
VERSION:2.0
PRODID:-//eventon.com NONSGML v1.0//EN
BEGIN:VEVENT
UID:69ecca7603960
DTSTAMP:20260425T160646
DTSTART:20220209T075900Z
DTEND:20220209T075900Z
TZID:UTC
LOCATION:
SUMMARY:“Trattare la violenza di genere”
DESCRIPTION: Programma dei SEMINARI di ALTA FORMAZIONE dal 5 febbraio al 5 marzo 2022\,  si svolgeranno sulla si svolgeranno online sulla piattaforma Zoom: è rivolto aassistenti sociali\,  avvocati\,  forze dell’ordine\,  giornalisti\,  magistrati\,  medici\,  operatori del pronto soccorso\,  psicologi\,  SERD e social media manager. 5 Febbraio 2022\,  dalle 9:30 alle 12:30: Conoscere[..]\nhttps://www.discoverpistoia.it/events/trattare-la-violenza-di-genere/
URL:https://www.discoverpistoia.it/events/trattare-la-violenza-di-genere/
END:VEVENT
END:VCALENDAR