BEGIN:VCALENDAR
VERSION:2.0
PRODID:-//eventon.com NONSGML v1.0//EN
BEGIN:VEVENT
UID:69ecba95430cd
DTSTAMP:20260425T145901
DTSTART:20220527T000000Z
DTEND:20220529T000000Z
TZID:UTC
LOCATION:Piazza del Duomo 
SUMMARY:Narrare humanum est. La vita come intreccio di storie e immaginari
DESCRIPTION: I Dialoghi di Pistoia da venerdì 27 a domenica 29 maggio. Il tema del 2022 Narrare humanum est. La vita come intreccio di storie e immaginari affronterà l’importanza e la centralità della narrazione per il genere umano in ogni epoca\,  cultura e contesto. Dai miti classici al cinema\,  dalla fiaba[..]\nhttps://www.discoverpistoia.it/events/narrare-humanum-est-la-vita-intreccio-storie-immaginari/
URL:https://www.discoverpistoia.it/events/narrare-humanum-est-la-vita-intreccio-storie-immaginari/
END:VEVENT
END:VCALENDAR