BEGIN:VCALENDAR
VERSION:2.0
PRODID:-//eventon.com NONSGML v1.0//EN
BEGIN:VEVENT
UID:69e91b4ea5664
DTSTAMP:20260422T210238
DTSTART:20220610T000000Z
DTEND:20220612T000000Z
TZID:UTC
LOCATION:Monsummano Terme 
SUMMARY:Sportiva la grande festa dello sport e del tempo libero
DESCRIPTION: SPORTIVA\,  la grande festa dello sport e del tempo libero è in programma nei giorni 10-11-12 giugno a Monsummano Terme presso il Parco Orzali\,  di fronte al punto vendita Coop.fi Durante la manifestazione si potranno seguire da vicino esercitazioni\,  esibizioni\,  performance uniche\,  ma anche provare\,  e partecipare a tornei di[..]\nhttps://www.discoverpistoia.it/events/sportiva-la-grande-festa-dello-sport-del-tempo-libero/
URL:https://www.discoverpistoia.it/events/sportiva-la-grande-festa-dello-sport-del-tempo-libero/
END:VEVENT
END:VCALENDAR