BEGIN:VCALENDAR
VERSION:2.0
PRODID:-//eventon.com NONSGML v1.0//EN
BEGIN:VEVENT
UID:69ed675026d0d
DTSTAMP:20260426T031600
DTSTART:20220701T213000Z
DTEND:20220729T213000Z
TZID:UTC
LOCATION:
SUMMARY:A luglio torna il cinema all’aperto nelle frazioni quarratine
DESCRIPTION: Ritorna tutti i giovedì e venerdì di luglio “Cinemoving”\,  il cinema itinerante nelle frazioni di Quarrata. PROGRAMMA DELLE PROIEZIONI VENERDÌ 1 LUGLIO\,  “Si muore solo da vivi” (2020) di Alberto Rizzi con Alessandro Roja e Alessandra Mastroianni #commedia &#8211; Piazza della Chiesa Ferruccia GIOVEDÌ 7 LUGLIO\,  “Figli” (2020) di Mattia[..]\nhttps://www.discoverpistoia.it/events/a-luglio-torna-il-cinema-allaperto-nelle-frazioni-quarratine/
URL:https://www.discoverpistoia.it/events/a-luglio-torna-il-cinema-allaperto-nelle-frazioni-quarratine/
END:VEVENT
END:VCALENDAR