BEGIN:VCALENDAR
VERSION:2.0
PRODID:-//eventon.com NONSGML v1.0//EN
BEGIN:VEVENT
UID:69e7dceea2439
DTSTAMP:20260421T222414
DTSTART:20220804T180000Z
DTEND:20220925T000000Z
TZID:UTC
LOCATION:Pistoia 
SUMMARY:Pistoletto Pistoia. Costellazione: 5 passi tra creazione e memoria
DESCRIPTION: A quasi trent’anni dalla presentazione di Progetto Arte\,  che ha trovato poi la sua realizzazione a Biella con Cittadellarte\,  Michelangelo Pistoletto torna in città con PISTOLETTO PISTOIA.  Costellazione: 5 passi tra creazione e memoria\,  mostra realizzata da Pistoia Musei in collaborazione con Cittadellarte – Fondazione Pistoletto. Una mostra “costellazione” che[..]\nhttps://www.discoverpistoia.it/events/pistoletto-pistoia-costellazione-5-passi-creazione-memoria-2/
URL:https://www.discoverpistoia.it/events/pistoletto-pistoia-costellazione-5-passi-creazione-memoria-2/
END:VEVENT
END:VCALENDAR