BEGIN:VCALENDAR
VERSION:2.0
PRODID:-//eventon.com NONSGML v1.0//EN
BEGIN:VEVENT
UID:69e4e74a2640b
DTSTAMP:20260419T163138
DTSTART:20220811T122100Z
DTEND:20220811T122100Z
TZID:UTC
LOCATION:
SUMMARY:VISITE GUIDATE IN CITTA' PASSEGGIATE PER BORGHI
DESCRIPTION: VISITE GUIDATE IN CITTA&#8217; PASSEGGIATE PER BORGHI con Oltre Pistoia Giovedì 8 settembre PANORAMI NOTTURNI &#8211; la salita sul Campanile Dalle ore 19.00 alle 20.00 e dalle 20.00 alle 21.00 &nbsp; Sabato 10 settembre CALAMECCA Passeggiata guidata pomeridiana &#8211; con apericena al tramonto Dalle ore 17.30 alle 19.00 &nbsp; Giovedì[..]\nhttps://www.discoverpistoia.it/events/visite-guidate-citta-passeggiate-borghi/
URL:https://www.discoverpistoia.it/events/visite-guidate-citta-passeggiate-borghi/
END:VEVENT
END:VCALENDAR