BEGIN:VCALENDAR
VERSION:2.0
PRODID:-//eventon.com NONSGML v1.0//EN
BEGIN:VEVENT
UID:69e6abc98ea4b
DTSTAMP:20260421T004217
DTSTART:20221010T095700Z
DTEND:20221010T095700Z
TZID:UTC
LOCATION:
SUMMARY:Passeggiate d’autunno tra borghi e castelli
DESCRIPTION: DOMENICA 9 OTTOBRE dalle ore 17.00 alle ore 18.30 sarà la volta di MONTECATINI ALTO CON GIGIO E LA GIGIA: raggiungeremo il borgo con la storica funicolare di Montecatini\,  e una volta arrivati ci perderemo tra i vicoli raggiungendo l’iconica Piazza Giusti\,  la chiesa di San Pietro e l’antica rocca.[..]\nhttps://www.discoverpistoia.it/events/passeggiate-dautunno-borghi-castelli/
URL:https://www.discoverpistoia.it/events/passeggiate-dautunno-borghi-castelli/
END:VEVENT
END:VCALENDAR