BEGIN:VCALENDAR
VERSION:2.0
PRODID:-//eventon.com NONSGML v1.0//EN
BEGIN:VEVENT
UID:69e62decf3cc7
DTSTAMP:20260420T154516
DTSTART:20230110T113000Z
DTEND:20230110T113000Z
TZID:UTC
LOCATION:
SUMMARY:Pistoia si conferma “Città che legge” per il biennio 2022-2023
DESCRIPTION: Pistoia si conferma per il terzo biennio consecutivo “Città che legge” per gli anni 2022-2023\,  conferito dal Ministero della Cultura e il Centro per il libro e la lettura alle realtà territoriali che più investono sulla promozione dei libri e della lettura. Sono\,  infatti\,  stati resi noti nei giorni scorsi[..]\nhttps://www.discoverpistoia.it/events/pistoia-si-conferma-citta-legge-biennio-2022-2023/
URL:https://www.discoverpistoia.it/events/pistoia-si-conferma-citta-legge-biennio-2022-2023/
END:VEVENT
END:VCALENDAR