BEGIN:VCALENDAR
VERSION:2.0
PRODID:-//eventon.com NONSGML v1.0//EN
BEGIN:VEVENT
UID:69e8dd918f580
DTSTAMP:20260422T163913
DTSTART:20240128T140000Z
DTEND:20240211T140000Z
TZID:UTC
LOCATION:Fortezza Santa Barbara Piazza della Resistenza\,  51100 Pistoia PT
SUMMARY:Carnevale di Pistoia 2024
DESCRIPTION: Il Comitato Cittadino Giostra dell’Orso ha comunicato ufficialmente quelle che saranno le date dei corsi mascherati del 2024\,  Si parte domenica 28 gennaio con la prima sfilata in Piazza della Resistenza con i carri allegorici preparati per l’occasione dai quattro rioni cittadini\,  per poi proseguire il 4 e l’11 febbraio.[..]\nhttps://www.discoverpistoia.it/events/carnevale-di-pistoia-2024/
URL:https://www.discoverpistoia.it/events/carnevale-di-pistoia-2024/
END:VEVENT
END:VCALENDAR