BEGIN:VCALENDAR
VERSION:2.0
PRODID:-//eventon.com NONSGML v1.0//EN
BEGIN:VEVENT
UID:69e5d060ea7dc
DTSTAMP:20260420T090608
DTSTART:20240113T170000Z
DTEND:20240201T170000Z
TZID:UTC
LOCATION:Biblioteca San Giorgio Via Sandro Pertini\,  51100 Pistoia PT
SUMMARY:Lavori nell’orto
DESCRIPTION: Si inaugura sabato 13 gennaio\,  alle ore 17.00\,  negli spazi espositivi della Biblioteca San Giorgio una grande mostra dedicata all’originalissimo lavoro artistico di Massimo Mariani. La mostra si divide in due sezioni: “Zuccario”\,  che occupa lo spazio delle vetrine in prossimità dell&#8217;ingresso\,  e “Cambio casa”\,  nello spazio espositivo interno. La[..]\nhttps://www.discoverpistoia.it/events/lavori-nellorto/
URL:https://www.discoverpistoia.it/events/lavori-nellorto/
END:VEVENT
END:VCALENDAR