BEGIN:VCALENDAR
VERSION:2.0
PRODID:-//eventon.com NONSGML v1.0//EN
BEGIN:VEVENT
UID:69e7fce7dc2cd
DTSTAMP:20260422T004039
DTSTART:20231021T090000Z
DTEND:20231021T110000Z
TZID:UTC
LOCATION:Biblioteca San Giorgio Via Sandro Pertini\,  51100 Pistoia PT
SUMMARY:SOGNARE AIUTA A GUARIRE
DESCRIPTION: Ecco la toccante esperienza di un uomo che ha dovuto – letteralmente – re-imparare a fare tutto\,  come un bambino: «“Lunedì la faccio mettere in piedi”. Il lunedì compare con un esoscheletro che mi sostiene\,  riesco a stare in piedi tre o quattro minuti dei dieci richiesti.» Questo è solo[..]\nhttps://www.discoverpistoia.it/events/sognare-aiuta-a-guarire/
URL:https://www.discoverpistoia.it/events/sognare-aiuta-a-guarire/
END:VEVENT
END:VCALENDAR