BEGIN:VCALENDAR
VERSION:2.0
PRODID:-//eventon.com NONSGML v1.0//EN
BEGIN:VEVENT
UID:69e4fcbaccc26
DTSTAMP:20260419T180306
DTSTART:20240519T033000Z
DTEND:20240519T043000Z
TZID:Pacific/Midway
LOCATION:Lucca 
SUMMARY:Scopri l’arte di Canova con NATURART
DESCRIPTION: La cultura e la bellezza non hanno confini geografici\,  infatti\,  il prossimo numero della nostra rivista NATURART ospiterà un articolo sulla mostra “ANTONIO CANOVA e il Neoclassicismo a Lucca” curata da Vittorio Sgarbi. Saranno presenti le sculture e i dipinti di Antonio Canova provenienti dal Museo Gipsoteca Antonio Canova di[..]\nhttps://www.discoverpistoia.it/events/scopri-larte-di-canova-con-naturart/
URL:https://www.discoverpistoia.it/events/scopri-larte-di-canova-con-naturart/
END:VEVENT
END:VCALENDAR