BEGIN:VCALENDAR
VERSION:2.0
PRODID:-//eventon.com NONSGML v1.0//EN
BEGIN:VEVENT
UID:69e8ceab4d257
DTSTAMP:20260422T153539
DTSTART:20240602T023000Z
DTEND:20240623T023000Z
TZID:Pacific/Midway
LOCATION:PALAZZO BUONTALENTI Via de'Rossi\,  7
SUMMARY:FAMILY POP
DESCRIPTION: Sabato 1° e 22 giugno\,  ore 15:30-17:00 &#8211; Palazzo Buontalenti Che cos’è il foto transfer? E come utilizzavano collage\,  pittura e parole artisti come Mario Schifano\,  Robert Rauschenberg e Mimmo Rotella?Per scoprirlo e sperimentare con colori\,  liquidi misteriosi e tante\,  tante immagini prendi parte a uno dei laboratori per famiglie[..]\nhttps://www.discoverpistoia.it/events/family-pop-2/
URL:https://www.discoverpistoia.it/events/family-pop-2/
END:VEVENT
END:VCALENDAR