BEGIN:VCALENDAR
VERSION:2.0
PRODID:-//eventon.com NONSGML v1.0//EN
BEGIN:VEVENT
UID:69e8d5bb4bd3e
DTSTAMP:20260422T160547
DTSTART:20240608T005600Z
DTEND:20240608T005600Z
TZID:Pacific/Midway
LOCATION:Azienda Agricola Vergiole via Corsetto Vergiole n. 3
SUMMARY:APERYOGA a Vergiole
DESCRIPTION: Venerdì 14 Giugno dalle 18.30 lezione all&#8217;aperto di Hatha Yoga con PistoiaYoga dalle 18.30 alle 19.30 a seguire un buonissimo aperitivo preparato dall&#8217;Azienda Agricola Vergiole. Parte del ricavato andrà a sostegno dei progetti della FondazioneSarà possibile fare anche solo la lezione di Yoga dalle ore 18.30 o solo apericena dalle[..]\nhttps://www.discoverpistoia.it/events/aperyoga-a-vergiole/
URL:https://www.discoverpistoia.it/events/aperyoga-a-vergiole/
END:VEVENT
END:VCALENDAR