BEGIN:VCALENDAR
VERSION:2.0
PRODID:-//eventon.com NONSGML v1.0//EN
BEGIN:VEVENT
UID:69e9414f04109
DTSTAMP:20260422T234447
DTSTART:20240615T053000Z
DTEND:20240615T080000Z
TZID:Pacific/Midway
LOCATION:Agriturismo Vergiole via Corsetto Vergiole n. 3
SUMMARY:APERYOGA solidale a Vergiole
DESCRIPTION: Venerdì 14 Giugno dalle 18.30 lezione all&#8217;aperto di Hatha Yoga con PistoiaYoga dalle 18.30 alle 19.30 a seguire un buonissimo aperitivo preparato dall&#8217;Azienda Agricola Vergiole. Parte del ricavato andrà a sostegno dei progetti della Fondazione Un Raggio di Luce Ets.Sarà possibile fare anche solo la lezione di Yoga dalle ore[..]\nhttps://www.discoverpistoia.it/events/aperyoga-solidale-a-vergiole/
URL:https://www.discoverpistoia.it/events/aperyoga-solidale-a-vergiole/
END:VEVENT
END:VCALENDAR