BEGIN:VCALENDAR
VERSION:2.0
PRODID:-//eventon.com NONSGML v1.0//EN
BEGIN:VEVENT
UID:69e70ca7325a5
DTSTAMP:20260421T073535
DTSTART:20240721T081500Z
DTEND:20241013T210000Z
TZID:Pacific/Midway
LOCATION:Pistoia 
SUMMARY:Pistoia Visioni
DESCRIPTION: PISTOIA VISIONI\,  il festival di Fotografia si tiene a Pistoia dal 8 giugno al 27 ottobre 2024. Questo evento unico per la città di Pistoia e gratuito per il pubblico e gli autori in mostra\,  promette di essere un punto di incontro per gli appassionati di Fotografia\,  artisti emergenti e[..]\nhttps://www.discoverpistoia.it/events/pistoia-visioni/
URL:https://www.discoverpistoia.it/events/pistoia-visioni/
END:VEVENT
END:VCALENDAR