BEGIN:VCALENDAR
VERSION:2.0
PRODID:-//eventon.com NONSGML v1.0//EN
BEGIN:VEVENT
UID:69e7c1d9139fb
DTSTAMP:20260421T202841
DTSTART:20240801T200000Z
DTEND:20240831T200000Z
TZID:Pacific/Midway
LOCATION:Monsummano Terme 
SUMMARY:AGOSTO AI MUSEI CIVICI DI MONSUMMANO TERME
DESCRIPTION: Musei Civici di Monsummano Terme aperti tutto il mese di agosto. Chiusi solamente il 15\,  per i restanti giorni effettueranno il consueto orario di apertura. Al Museo della Città e del Territorio\,  nell’antica Osteria dei Pellegrini\,  continua la temporanea “Territorio in mostra. Una storia lunga trent’anni”. Preziosi documenti dell’Archivio Storico[..]\nhttps://www.discoverpistoia.it/events/agosto-ai-musei-civici-di-monsummano-terme/
URL:https://www.discoverpistoia.it/events/agosto-ai-musei-civici-di-monsummano-terme/
END:VEVENT
END:VCALENDAR