BEGIN:VCALENDAR
VERSION:2.0
PRODID:-//eventon.com NONSGML v1.0//EN
BEGIN:VEVENT
UID:69e836ee30d65
DTSTAMP:20260422T044814
DTSTART:20240922T110000Z
DTEND:20241027T043000Z
TZID:Pacific/Midway
LOCATION:Palazzo de' Rossi via de' Rossi\,  26
SUMMARY:IN VISITA | MARIA LAI
DESCRIPTION: Dal 22 settembre 2024 al 23 febbraio 2025 è proposto il nuovo appuntamento di In Visita\,  il progetto che mette in dialogo opere significative delle Collezioni del Novecento\,  nel Palazzo de’ Rossi a Pistoia\,  con gli autori più rappresentativi del ventesimo e ventunesimo secolo. Maria Lai (1919-2013)\,  artista italiana tra[..]\nhttps://www.discoverpistoia.it/events/in-visita-maria-lai-2/
URL:https://www.discoverpistoia.it/events/in-visita-maria-lai-2/
END:VEVENT
END:VCALENDAR