BEGIN:VCALENDAR
VERSION:2.0
PRODID:-//eventon.com NONSGML v1.0//EN
BEGIN:VEVENT
UID:69eb20f33b47c
DTSTAMP:20260424T095115
DTSTART:20241008T050000Z
DTEND:20241031T074500Z
TZID:Pacific/Midway
LOCATION:Pistoia 
SUMMARY:TEATRI DI PISTOIA Al via le stagioni 2024/2025
DESCRIPTION: PROGRAMMA IL FUNARO | LA VIA DEL FUNARO CENT’ANNI DI SOLITUDINE di Gabriel García Márquez letto in 12 puntate un progetto di Sandro Lombardi e Federico Tiezzi narratore Sandro Lombardi dal 7 all’ 11 ottobre ore 18: con Luca Tanganelli dal 15 al 18 ottobre ore 18: con Massimo Grigò[..]\nhttps://www.discoverpistoia.it/events/teatri-di-pistoia-al-via-le-stagioni-2024-2025/
URL:https://www.discoverpistoia.it/events/teatri-di-pistoia-al-via-le-stagioni-2024-2025/
END:VEVENT
END:VCALENDAR