BEGIN:VCALENDAR
VERSION:2.0
PRODID:-//eventon.com NONSGML v1.0//EN
BEGIN:VEVENT
UID:69e902ebb4629
DTSTAMP:20260422T191835
DTSTART:20250502T020000Z
DTEND:20250601T020000Z
TZID:Pacific/Midway
LOCATION:Pistoia e Provincia 
SUMMARY:PRIMAVERA AL MUSEO 2025 - MAGGIO
DESCRIPTION: Domenica 11 maggio e domenica 1° giugno &#8211; ore dalle 16.15 alle ore 17.45 è possibile effettuare visite guidate alla mostra dedicata alla collezione di ritratti di uomini illustri provenienti dall’Accademia di Scienze\,  Lettere e Arti di Pistoia nell’ambitodell’iniziativa Domenica più. Comprendono anche una tappa al Museo di San Salvatore[..]\nhttps://www.discoverpistoia.it/events/primavera-al-museo-2025-maggio/
URL:https://www.discoverpistoia.it/events/primavera-al-museo-2025-maggio/
END:VEVENT
END:VCALENDAR