BEGIN:VCALENDAR
VERSION:2.0
PRODID:-//eventon.com NONSGML v1.0//EN
BEGIN:VEVENT
UID:69eba41667de2
DTSTAMP:20260424T191046
DTSTART:20250510T030000Z
DTEND:20250511T203000Z
TZID:Pacific/Midway
LOCATION:Biblioteca San Giorgio Via Sandro Pertini\,  51100 Pistoia PT
SUMMARY:69° CEPPO BIENNALE POESIA 2025
DESCRIPTION: Venerdì 9 maggio Auditorium Terzani &#8211; Biblioteca SanGiorgio &#8211; ore 16.00-19.00 GAROUS ABDOLMALEKIAN &#8211; CEPPO POESIA INTERNAZIONALE Pietro Bigongiari Lecture 2025 del poeta iraniano Garous Abdolmalekian &#8220;Accogliere i Pellegrini &#8211; Il riparo delle sillabe e delle Parole&#8221; LORETTO RAFANELLI &#8211; CEPPO PISTOIA CAPITALE DELLA POESIA Presentazione del libro &#8220;Lo sguardo[..]\nhttps://www.discoverpistoia.it/events/69-ceppo-biennale-poesia-2025/
URL:https://www.discoverpistoia.it/events/69-ceppo-biennale-poesia-2025/
END:VEVENT
END:VCALENDAR