BEGIN:VCALENDAR
VERSION:2.0
PRODID:-//eventon.com NONSGML v1.0//EN
BEGIN:VEVENT
UID:69eb26581e9ef
DTSTAMP:20260424T101416
DTSTART:20250525T040000Z
DTEND:20250525T050000Z
TZID:Pacific/Midway
LOCATION:Villa LA MAGIA Quarrata (Pistoia)
SUMMARY:LA MAGIA DELLE PAROLE: SCRITTRICI IN VILLA
DESCRIPTION: 24 MAGGIO 2025\,  ORE 17BEATRICE SALVIONI &#8211; La Malacarne\,  Einaudi\,  2024 Beatrice Salvioni (Monza\,  1995)\,  ha praticato scherma medievale e ha scalato il Monte Rosa. Nel 2021 si è diplomata alla Scuola Holden e ha vinto il Premio Calvino racconti. La malnata (Einaudi 2023)\,  il suo primo romanzo\,  è tradotto[..]\nhttps://www.discoverpistoia.it/events/la-magia-delle-parole-scrittrici-in-villa-3/
URL:https://www.discoverpistoia.it/events/la-magia-delle-parole-scrittrici-in-villa-3/
END:VEVENT
END:VCALENDAR