BEGIN:VCALENDAR
VERSION:2.0
PRODID:-//eventon.com NONSGML v1.0//EN
BEGIN:VEVENT
UID:69e738a05c650
DTSTAMP:20260421T104312
DTSTART:20260425T040000Z
DTEND:20260926T040000Z
TZID:Pacific/Midway
LOCATION:MONTEULIVETO 
SUMMARY:I VENERDÌ DEL GIARDINO PICCINO
DESCRIPTION: Il senso della cura di noi stessi e della natura Rassegna a cura del Comitato Provinciale UNICEF con la collaborazione della Fondazione Sant’Atto Ets\,  la Diocesi di Pistoia\,  le Associazioni AUSER e ANTEAS di Pistoia\,  nell’ambito del progetto “G.I.O.I.A. 2026 – Giovani Incontrano Anziani” finanziato dalla Fondazione Caript.Un giardino è[..]\nhttps://www.discoverpistoia.it/events/i-venerdi-del-giardino-piccino/
URL:https://www.discoverpistoia.it/events/i-venerdi-del-giardino-piccino/
END:VEVENT
END:VCALENDAR